BEGIN:VCALENDAR
VERSION:2.0
PRODID:icalendar-ruby
CALSCALE:GREGORIAN
METHOD:PUBLISH
BEGIN:VEVENT
DTSTAMP:20260421T103053Z
UID:9-207842@arnolia.org
DTSTART:20251111T170000Z
DTEND:20251111T180000Z
CLASS:PUBLIC
CREATED:20251030T131704
DESCRIPTION:Join us for our weekly study led by the Pastor. \nFor the fall
  we are continuing our discussion of Disarming Leviathan: Loving Your Chr
 istian Nationalist Neighbor. We read the book together.\n\nIf you want to
  join us remotely\, you may do so via Google Meet.\nVideo call link: http
 s://meet.google.com/nia-ingm-xtu\nOr dial: ‪(US) +1 252-484-3152‬ PIN:
  ‪101 091 330‬#
LAST-MODIFIED:20251030T131704
LOCATION:Conference Room & Online
SUMMARY:Pastor's Study
URL;VALUE=URI:https://www.arnolia.org/events/pastors-study/2025-11-11
ATTACH;FILENAME=A0851.jpg;FMTTYPE=image/jpeg:https://dq5pwpg1q8ru0.cloudfro
 nt.net/2025/10/30/17/15/33/7ec45cac-365f-465f-b27e-7eff5a225bf7/A0851.jpg
END:VEVENT
END:VCALENDAR
